BEGIN:VCALENDAR
VERSION:2.0
PRODID:-//Palette &amp; Chisel - ECPv6.15.20//NONSGML v1.0//EN
CALSCALE:GREGORIAN
METHOD:PUBLISH
X-WR-CALNAME:Palette &amp; Chisel
X-ORIGINAL-URL:https://paletteandchisel.org
X-WR-CALDESC:Events for Palette &amp; Chisel
REFRESH-INTERVAL;VALUE=DURATION:PT1H
X-Robots-Tag:noindex
X-PUBLISHED-TTL:PT1H
BEGIN:VTIMEZONE
TZID:America/New_York
BEGIN:DAYLIGHT
TZOFFSETFROM:-0500
TZOFFSETTO:-0400
TZNAME:EDT
DTSTART:20250309T070000
END:DAYLIGHT
BEGIN:STANDARD
TZOFFSETFROM:-0400
TZOFFSETTO:-0500
TZNAME:EST
DTSTART:20251102T060000
END:STANDARD
BEGIN:DAYLIGHT
TZOFFSETFROM:-0500
TZOFFSETTO:-0400
TZNAME:EDT
DTSTART:20260308T070000
END:DAYLIGHT
BEGIN:STANDARD
TZOFFSETFROM:-0400
TZOFFSETTO:-0500
TZNAME:EST
DTSTART:20261101T060000
END:STANDARD
BEGIN:DAYLIGHT
TZOFFSETFROM:-0500
TZOFFSETTO:-0400
TZNAME:EDT
DTSTART:20270314T070000
END:DAYLIGHT
BEGIN:STANDARD
TZOFFSETFROM:-0400
TZOFFSETTO:-0500
TZNAME:EST
DTSTART:20271107T060000
END:STANDARD
END:VTIMEZONE
BEGIN:VEVENT
DTSTART;TZID=America/New_York:20260413T173000
DTEND;TZID=America/New_York:20260601T193000
DTSTAMP:20260420T105600
CREATED:20260319T231647Z
LAST-MODIFIED:20260319T231647Z
UID:10000555-1776101400-1780342200@paletteandchisel.org
SUMMARY:Class #210: Drawing the Facial Features with Addison Xu
DESCRIPTION:Time : 5:30PM – 7:30PM CDT on Mon —\n\n\n\nThis 8-week Zoom drawing class will focus on individual features of the face: the eyes\, nose\, mouth\, ears\, and hair. We’ll meet once a week and spend 1-2 sessions per feature. We will work on toned paper with pencil and chalk and explore their anatomy\, form\, simplification\, and other related topics. We’ll learn from photos of models as well as masterworks. Each session will be half demonstration and half class critique\, and the class will be recorded. \n\nSpecial Notes \n\nZoom class\n\n\n\nRequired Supplies \n\nPencils (Range of hardnesses from about HB-2B)\, white chalk\, sandpaper and razor blade (for sharpening pencils)\, toned paper\, kneaded eraser\, drawing board
URL:https://paletteandchisel.org/event/class-210-drawing-the-facial-features-with-addison-xu/
CATEGORIES:Classes
ATTACH;FMTTYPE=image/jpeg:https://paletteandchisel.org/wp-content/uploads/2024/10/addison-eyes.jpg
END:VEVENT
BEGIN:VEVENT
DTSTART;TZID=America/New_York:20260414T173000
DTEND;TZID=America/New_York:20260602T193000
DTSTAMP:20260420T105600
CREATED:20260319T232047Z
LAST-MODIFIED:20260319T232047Z
UID:10000557-1776187800-1780428600@paletteandchisel.org
SUMMARY:Class #216: Portrait Drawing with Addison Xu
DESCRIPTION:Time : 5:00PM – 7:00PM CDT on Tue —\n\n\n\nThis 8-week Zoom class is for beginner students who want to learn a structural and form-based approach to drawing portraits. We will meet once a week and work from photos and masterworks and discuss how to set up a linear block-in and how to render the illusion of three-dimensional form. Through critiques and demonstrations\, we will focus on understanding the structure and perspective of the head in space\, mechanics of light and form\, and proportions and likeness of the model. An optional assignment and supplementary material will be given weekly. Each session will be recorded. \n\nSpecial Notes \n\nZoom Class\n\nRequired Supplies \n\nPencils (Range of hardnesses from about HB-2B)\, white chalk\, sandpaper and razor blade (for sharpening pencils)\, toned paper\, kneaded eraser\, drawing board
URL:https://paletteandchisel.org/event/class-216-portrait-drawing-with-addison-xu/
CATEGORIES:Classes
ATTACH;FMTTYPE=image/jpeg:https://paletteandchisel.org/wp-content/uploads/2024/11/addison-xu-portrait.jpg
END:VEVENT
BEGIN:VEVENT
DTSTART;TZID=America/New_York:20260418T133000
DTEND;TZID=America/New_York:20260606T163000
DTSTAMP:20260420T105600
CREATED:20260311T232313Z
LAST-MODIFIED:20260311T232313Z
UID:10000515-1776519000-1780763400@paletteandchisel.org
SUMMARY:Class #334: Basic Course in Drawing with Andrew Conklin
DESCRIPTION:Time : 1:30PM – 4:30PM CDT on Sat —\n\n\n\nDiscover the pleasure of drawing! This course introduces essential ideas and processes used by artists working from observation. Students investigate the use of freehand drawing to capture proportion\, communicate form\, and express emotion. Essentials of shading\, composition\, and color are considered through various drawing media\, including charcoal\, graphite and color pencils. Intended for the beginner or those with limited experience in studio art\, these sessions prepare the student for more advanced figure and still life courses. Limited to 9 students. Open to all levels. \n\n\n\n\nSpecial Notes \n\nThere is a shared\, non-refundable model fee payable to the instructor.\nThis class meets in our lower-level studio.\nNo class on 5/16 & 5/23.\nSupply List\n\n 
URL:https://paletteandchisel.org/event/class-334-basic-course-in-drawing-with-andrew-conklin/
CATEGORIES:Classes
ATTACH;FMTTYPE=image/jpeg:https://paletteandchisel.org/wp-content/uploads/2024/08/Image-81.jpg
END:VEVENT
BEGIN:VEVENT
DTSTART;TZID=America/New_York:20260422T100000
DTEND;TZID=America/New_York:20260527T130000
DTSTAMP:20260420T105600
CREATED:20260305T004257Z
LAST-MODIFIED:20260305T004257Z
UID:10000494-1776852000-1779886800@paletteandchisel.org
SUMMARY:Class #717 - From Sketch to Finish with Lenin Delsol
DESCRIPTION:Time : 10:00AM – 1:00PM CDT on Wed —\n\n\n\nThis is a class designed to help with painting the portrait in Oil and Pastel\, although other media are welcome. Different techniques and procedures will be demonstrated throughout the class and close\, hands on instruction will be given. Drawing is an important component of painting as is an understanding of colour\, and these are a only a couple of the topics that will be touched upon in class. So\, if you’ve ever wondered if you’d ever use that old set of pastels you put away so long ago\, or how to push your oil paintings a little further\, sign up for Sketch to Finish! \n\n\n\n\nSpecial Notes \n\nThere is a $60 model fee payable to the instructor.\nThis class meets in our northlight studio on the 3rd floor.\n\n\n\nRequired Supplies \n\nSupply List
URL:https://paletteandchisel.org/event/class-717-from-sketch-to-finish-with-lenin-delsol/
CATEGORIES:Classes
ATTACH;FMTTYPE=image/jpeg:https://paletteandchisel.org/wp-content/uploads/2024/08/Image-90.jpg
END:VEVENT
BEGIN:VEVENT
DTSTART;TZID=America/New_York:20260422T183000
DTEND;TZID=America/New_York:20260527T210000
DTSTAMP:20260420T105600
CREATED:20260319T222900Z
LAST-MODIFIED:20260319T222900Z
UID:10000540-1776882600-1779915600@paletteandchisel.org
SUMMARY:Class #143: Learn Portrait Artistic Anatomy through Quick-Sketch Drawing with Tor Muehl
DESCRIPTION:6:00 PM – 9:00PM CDT on Wed.\n\n\n\n\nClass activities include: Art anatomy presentations with discussion\, active learning through quick sketch drawing from live models\, muscle and skeletal models. Structures covered include: bones\, bony landmarks\, muscle compartments and individual muscles. Layman’s terms will augment or replace scientific terminology whenever possible.\n\nClass goals are for the student to learn bones and muscle structures that contribute to surface shapes for the purpose of accurately drawing the human form. Each 6-week class will focus on one section of the body including: 1) Lower Extremity\, 2)Upper extremity\, 3) Thorax\, and 4) Head & Neck.\n\nSpecial Notes\n\nThe class will meet in our coach house studio (rear building).\n\n\n\n\n\n\nRequired Supplies \n\n9” x 12” sketchbook\nDrawing instruments: Pencils: (HB\, B\, 2B) or preferred drawing medium\nKneaded eraser
URL:https://paletteandchisel.org/event/class-143-learn-portrait-artistic-anatomy-through-quick-sketch-drawing-with-tor-muehl-2/
CATEGORIES:Classes
ATTACH;FMTTYPE=image/jpeg:https://paletteandchisel.org/wp-content/uploads/2025/08/tor.jpg
END:VEVENT
BEGIN:VEVENT
DTSTART;TZID=America/New_York:20260422T183000
DTEND;TZID=America/New_York:20260527T213000
DTSTAMP:20260420T105600
CREATED:20260305T005043Z
LAST-MODIFIED:20260305T005043Z
UID:10000497-1776882600-1779917400@paletteandchisel.org
SUMMARY:Class #807 - Instinctive Figure Painting with Lenin Delsol
DESCRIPTION:Time : 6:30PM – 9:30PM CDT on Wed —\n\n\n\n\nThe purpose of this class will be to develop your confidence and a way of seeing the figure as a whole\, utilizing basic anatomical landmarks and a sense of comparative proportion. Together\, we will examine the physical landmark relationships inherent in the human subjects we choose to paint and draw. \nDuring the course of the class\, we will paint several poses—both figure and clothed figure\, with practical demos being shown throughout. We will also discuss composition and apply those ideas to artworks created in the class. \n\n\n\n\n\nSpecial Notes \n\nThere is a $60 model fee payable to the instructor.\nThis class meets in our 3rd floor studio.\n\n\nRequired Supplies \n\nSupply List
URL:https://paletteandchisel.org/event/class-807-instinctive-figure-painting-with-lenin-delsol/
CATEGORIES:Classes
ATTACH;FMTTYPE=image/png:https://paletteandchisel.org/wp-content/uploads/2024/08/Image-71-1.png
END:VEVENT
BEGIN:VEVENT
DTSTART;TZID=America/New_York:20260423T100000
DTEND;TZID=America/New_York:20260528T130000
DTSTAMP:20260420T105600
CREATED:20260312T234248Z
LAST-MODIFIED:20260312T234248Z
UID:10000527-1776938400-1779973200@paletteandchisel.org
SUMMARY:Class #273: Oil Painting - Still Life with Helen Oh
DESCRIPTION:Time : 10:00AM – 1:00PM CDT on Thur —\n\n\n\n\nOil Painting — Still Life introduces layered painting techniques perfected by Dutch and Italian masters of the 17th century. Each session begins with an instructor’s demonstration of form rendering\, warm and cool color applications\, and use of scumbling and glazing.\n\nWorking from the instructor’s still life set up\, students will create two paintings throughout. This course is a terrific intro for beginners & an inspiring brush-up course for returning painters.\n\n  \n\n\n\n\nSpecial Notes \n\nThis class meets in our northlight studio on the 3rd floor.\nSupply List
URL:https://paletteandchisel.org/event/class-273-oil-painting-still-life-with-helen-oh/
CATEGORIES:Classes
ATTACH;FMTTYPE=image/png:https://paletteandchisel.org/wp-content/uploads/2024/08/Image-79-1.png
END:VEVENT
BEGIN:VEVENT
DTSTART;TZID=America/New_York:20260428T183000
DTEND;TZID=America/New_York:20260602T213000
DTSTAMP:20260420T105600
CREATED:20260319T223928Z
LAST-MODIFIED:20260417T225708Z
UID:10000543-1777401000-1780435800@paletteandchisel.org
SUMMARY:Class #550: Oil Painting - Still Life: Any Subject with Michael Van Zeyl
DESCRIPTION:Time : 6:30PM – 9:30PM CDT on Tue —\n\n\n\nOpen to all levels\, this class will introduce various oil painting materials and analyze great paintings from the past and present. With an emphasis on chiaroscuro painting (the dramatic distribution of light and shadow in a picture)\, students will learn the essentials for creating dimensional\, life-like paintings including: composition & design\, values\, edges\, color harmony and paint application techniques. Students are welcome to bring in their own subject to paint from or choose a collection of reference material provided by the instructor. \n\n\n\n\nSpecial Notes \n\nThis class meets in our 3rd floor studio.\n\n\n\nRequired Supplies \n\nSupply List
URL:https://paletteandchisel.org/event/class-550-oil-painting-still-life-any-subject-with-michael-van-zeyll/
CATEGORIES:Classes
ATTACH;FMTTYPE=image/png:https://paletteandchisel.org/wp-content/uploads/2024/08/Image-68-1.png
END:VEVENT
BEGIN:VEVENT
DTSTART;TZID=America/New_York:20260504T183000
DTEND;TZID=America/New_York:20260601T210000
DTSTAMP:20260420T105600
CREATED:20260319T224835Z
LAST-MODIFIED:20260319T224914Z
UID:10000545-1777919400-1780347600@paletteandchisel.org
SUMMARY:Class #101/102/103: Fundamentals of Visual Art with Don Yang
DESCRIPTION:6:30 PM – 9:00PM CDT on Mon. & Wed.\n\n\n\n\n\nThis class is designed for anyone\, from beginning level to advanced level\, who wishes to systematically learn to draw and paint. (Anyone can learn to draw and paint as long as they have desire and patience\, and willingness to work at it!)\n\nClass will focus on the four most important fundamentals of visual art:\n1. Drawing (Form Principles)\n2. Design (Composition)\n3. Perspective (Spatial Relation)\n4. Color (Color Harmony)\n\nFundamentals of Art 101 students will learn fundamentals of Drawing\, Design and Perspective. Fundamentals of Art 102 students will\, while continuing to study these 3 fundamentals\, learn color theory and harmony. In the subsequent Fundamentals of Art 103 class\, students will compose pictorial narratives in the subject of their choice (landscape\, still life\, illustration etc.) by utilizing design principles and color theory.\n\nThe eventual goal of this class is\, by equipping the students with the essential tools of visual art fundamentals\, to prepare them to be able to pursue their individual art of visual communication and expression in their own style\, medium\, and genre.\n\n\n\n\n\n\n\nSpecial Notes \n\nThis class meets in our lower level studio.\nNo class on 5/25.\n101 Supply List\n102 Supply List
URL:https://paletteandchisel.org/event/class-101-102-103-fundamentals-of-visual-art-with-don-yang-3/
CATEGORIES:Classes
ATTACH;FMTTYPE=image/jpeg:https://paletteandchisel.org/wp-content/uploads/2025/01/don-y-fun.jpeg
END:VEVENT
BEGIN:VEVENT
DTSTART;TZID=America/New_York:20260506T150000
DTEND;TZID=America/New_York:20260603T173000
DTSTAMP:20260420T105600
CREATED:20260319T225937Z
LAST-MODIFIED:20260319T230033Z
UID:10000549-1778079600-1780507800@paletteandchisel.org
SUMMARY:Class #132: Watercolor Painting with Don Yang
DESCRIPTION:3:00 PM – 5:30PM CDT on Wed.\n\n\n\n\n\n\n\n\n\n• This is a general watercolor class—as opposed to one specific genre of portrait\, landscape\, still life etc.—designed for both beginning watercolor painters and the experienced. \n• Students will learn fundamental skills and techniques of watercolor painting in order to create a convincing realism in their painting. \n• In addition to hands-on skills\, students will learn how to\n· construct a dynamic value structure in painting.\n· create color harmony in painting.\n· create an impactful composition. \n• Individual student paints their choice of subject matter; landscape\, urban-scape\, people\, animals\, still life etc. \n• Class consists of lecture\, demonstration\, individual instruction\, home assignment\, and group critique. \n• Students paint from photo references of their choice (on print\, tablet\, or laptop) carefully selected from the discussion with the instructor. \n\n\n\n\n\n\n\n\n\n\n\nSpecial Notes \n\nThis class meets in our lower-level studio.\n\n\n\nRequired Supplies \n\nSupply List
URL:https://paletteandchisel.org/event/class-132-watercolor-painting-with-don-yang/
CATEGORIES:Classes
ATTACH;FMTTYPE=image/jpeg:https://paletteandchisel.org/wp-content/uploads/2025/12/don-yang-watercolor.jpg
END:VEVENT
BEGIN:VEVENT
DTSTART;TZID=America/New_York:20260509T090000
DTEND;TZID=America/New_York:20260620T120000
DTSTAMP:20260420T105600
CREATED:20260312T234858Z
LAST-MODIFIED:20260313T001818Z
UID:10000530-1778317200-1781956800@paletteandchisel.org
SUMMARY:#154: Figure Drawing: Essentials of Form with Helen Oh
DESCRIPTION:Time : 9:00AM – 12:00PM CDT on Sat —\n\n\n\n\nThis course focuses on the essentials of rendering 3D volume\, weight-bearing\, and balance\, when drawing the figure. In long poses\, students will construct convincing and expressive form in life drawings.\n\nEach session begins with the instructor’s demo. Students will work with various media\, including pencil\, charcoal\, and liquid graphite\, to produce dynamic and unique effects.\n\nOpen to all levels.\n\n\n\n\n\n\nSpecial Notes \n\nThe class will meet in our second floor studio.\nThere is a $60 model fee payable to the instructor.\nNo class on 5/23.\n\n\n\nRequired Supplies \n\nSupply List
URL:https://paletteandchisel.org/event/154-figure-drawing-essentials-of-form-with-helen-oh/
CATEGORIES:Classes
ATTACH;FMTTYPE=image/jpeg:https://paletteandchisel.org/wp-content/uploads/2026/03/helen-oh-essential.jpg
END:VEVENT
BEGIN:VEVENT
DTSTART;TZID=America/New_York:20260515T090000
DTEND;TZID=America/New_York:20260605T153000
DTSTAMP:20260420T105600
CREATED:20260319T230859Z
LAST-MODIFIED:20260319T230859Z
UID:10000553-1778835600-1780673400@paletteandchisel.org
SUMMARY:Class #237: Figure & Portrait Drawing with Addison Xu
DESCRIPTION:Time : 9:00AM – 3:30PM CDT on Fri —\n\n\n\n\n\nIn this class\, students will draw four different nude figures or portraits from life in graphite (one drawing per week). Students can decide whether they wish to draw the figure or portrait each week. Instruction will include demonstrations and individual critiques\, and will focus on understanding the gesture\, structure\, and perspective of the model in space as well as the proportions and likeness. \n\n\n\n\nSpecial Notes \n\nThis workshop meets in our 2nd floor studio.\nThe model fee is $90.\n\n\n\nRequired Supplies \n\nSupply List 
URL:https://paletteandchisel.org/event/class-237-figure-portrait-drawing-with-addison-xu/
CATEGORIES:Classes
ATTACH;FMTTYPE=image/jpeg:https://paletteandchisel.org/wp-content/uploads/2025/08/xu-figure.jpg
END:VEVENT
BEGIN:VEVENT
DTSTART;TZID=America/New_York:20260526T100000
DTEND;TZID=America/New_York:20260630T130000
DTSTAMP:20260420T105600
CREATED:20260313T000133Z
LAST-MODIFIED:20260313T001440Z
UID:10000534-1779789600-1782824400@paletteandchisel.org
SUMMARY:Class #295: Oil Painting - Copying Master Paintings & Personal Projects with Helen Oh
DESCRIPTION:Time : 10:00AM – 1:00PM CDT on Tue —\n\n\n\nCopying master paintings has long been considered one of the best ways to learn drawing and painting. Throughout history\, this practice has helped artists to build their visual memory\, gain insight about the painter’s intention and understand the work within a historical context. Rubens\, Degas\, and others used copying to strengthen their artistic vision.\n\nThe class is also open to independent projects by students who wish to explore modes of art making that may be inspired by themes or styles of their favorite painters.\nOpen to all levels. \nSpecial Notes \n\nThis class meets in our second floor studio.\nSupply List
URL:https://paletteandchisel.org/event/class-295-oil-painting-copying-master-paintings-personal-projects-with-helen-oh/
CATEGORIES:Classes
ATTACH;FMTTYPE=image/png:https://paletteandchisel.org/wp-content/uploads/2024/08/Image-73.png
END:VEVENT
BEGIN:VEVENT
DTSTART;TZID=America/New_York:20260526T140000
DTEND;TZID=America/New_York:20260630T170000
DTSTAMP:20260420T105600
CREATED:20260312T235742Z
LAST-MODIFIED:20260313T001324Z
UID:10000532-1779804000-1782838800@paletteandchisel.org
SUMMARY:Class #225: Portrait Drawing with Helen Oh
DESCRIPTION:Time : 2:00PM – 5:00PM CDT on Tue —\n\n\n\nFor millennia\, artists have delighted in drawing the human face and head. It is infinitely challenging and compelling to capture the unique combination of large and small\, fixed and mobile forms that combine to produce the sitter’s likeness. \nThis drawing course introduces the essentials of proportion\, line\, shading and color techniques as it examines specific forms drawn from the model. Open to all levels. \n\n\n\n\nSpecial Notes \n\nThis class meets in our 2nd floor studio.\n$60 non-refundable model fee paid directly to the instructor.\nSupply List
URL:https://paletteandchisel.org/event/class-225-portrait-drawing-with-helen-oh/
CATEGORIES:Classes
ATTACH;FMTTYPE=image/jpeg:https://paletteandchisel.org/wp-content/uploads/2025/04/helen-drawing.jpg
END:VEVENT
END:VCALENDAR