BEGIN:VCALENDAR
VERSION:2.0
PRODID:-//Palette &amp; Chisel - ECPv6.15.20//NONSGML v1.0//EN
CALSCALE:GREGORIAN
METHOD:PUBLISH
X-WR-CALNAME:Palette &amp; Chisel
X-ORIGINAL-URL:https://paletteandchisel.org
X-WR-CALDESC:Events for Palette &amp; Chisel
REFRESH-INTERVAL;VALUE=DURATION:PT1H
X-Robots-Tag:noindex
X-PUBLISHED-TTL:PT1H
BEGIN:VTIMEZONE
TZID:America/New_York
BEGIN:DAYLIGHT
TZOFFSETFROM:-0500
TZOFFSETTO:-0400
TZNAME:EDT
DTSTART:20250309T070000
END:DAYLIGHT
BEGIN:STANDARD
TZOFFSETFROM:-0400
TZOFFSETTO:-0500
TZNAME:EST
DTSTART:20251102T060000
END:STANDARD
BEGIN:DAYLIGHT
TZOFFSETFROM:-0500
TZOFFSETTO:-0400
TZNAME:EDT
DTSTART:20260308T070000
END:DAYLIGHT
BEGIN:STANDARD
TZOFFSETFROM:-0400
TZOFFSETTO:-0500
TZNAME:EST
DTSTART:20261101T060000
END:STANDARD
BEGIN:DAYLIGHT
TZOFFSETFROM:-0500
TZOFFSETTO:-0400
TZNAME:EDT
DTSTART:20270314T070000
END:DAYLIGHT
BEGIN:STANDARD
TZOFFSETFROM:-0400
TZOFFSETTO:-0500
TZNAME:EST
DTSTART:20271107T060000
END:STANDARD
END:VTIMEZONE
BEGIN:VEVENT
DTSTART;TZID=America/New_York:20260712T100000
DTEND;TZID=America/New_York:20260913T123000
DTSTAMP:20260420T160727
CREATED:20260319T222305Z
LAST-MODIFIED:20260319T222535Z
UID:10000538-1783850400-1789302600@paletteandchisel.org
SUMMARY:Class #635: Sculpture - Figurative with Ralph Cossentino
DESCRIPTION:Time : 10:00AM – 12:30PM CDT on Sun —\n\n\n\nIn this class\, students will work from a live model and complete a 1/3 life size sculpture using water-based clay. Special focus will be given to bone and muscle structure as well as expression conveyed through the model’s pose. \n\n\n\n\nSpecial Notes \n\nThere’s a shared model and materials fee.\nThis class meets in our first floor studio in the coach house.\n\n\n\nRequired Supplies \n\nClay may purchased from the instructor.
URL:https://paletteandchisel.org/event/class-635-sculpture-figurative-with-ralph-cossentino/
CATEGORIES:Classes
ATTACH;FMTTYPE=image/jpeg:https://paletteandchisel.org/wp-content/uploads/2024/08/Image-84.jpg
END:VEVENT
BEGIN:VEVENT
DTSTART;TZID=America/New_York:20260715T150000
DTEND;TZID=America/New_York:20260826T173000
DTSTAMP:20260420T160727
CREATED:20260319T230454Z
LAST-MODIFIED:20260319T230454Z
UID:10000551-1784127600-1787765400@paletteandchisel.org
SUMMARY:Class #133: Watercolor Painting with Don Yang
DESCRIPTION:3:00 PM – 5:30PM CDT on Wed.\n\n\n\n\n\n\n\n\n\n• This is a general watercolor class—as opposed to one specific genre of portrait\, landscape\, still life etc.—designed for both beginning watercolor painters and the experienced. \n• Students will learn fundamental skills and techniques of watercolor painting in order to create a convincing realism in their painting. \n• In addition to hands-on skills\, students will learn how to\n· construct a dynamic value structure in painting.\n· create color harmony in painting.\n· create an impactful composition. \n• Individual student paints their choice of subject matter; landscape\, urban-scape\, people\, animals\, still life etc. \n• Class consists of lecture\, demonstration\, individual instruction\, home assignment\, and group critique. \n• Students paint from photo references of their choice (on print\, tablet\, or laptop) carefully selected from the discussion with the instructor. \n\n\n\n\n\n\n\n\n\n\n\nSpecial Notes \n\nThis class meets in our lower-level studio.\nNo class on 7/22 and 8/19.\n\n\n\nRequired Supplies \n\nSupply List
URL:https://paletteandchisel.org/event/class-133-watercolor-painting-with-don-yang-2/
CATEGORIES:Classes
ATTACH;FMTTYPE=image/jpeg:https://paletteandchisel.org/wp-content/uploads/2025/12/don-yang-watercolor.jpg
END:VEVENT
BEGIN:VEVENT
DTSTART;TZID=America/New_York:20260716T100000
DTEND;TZID=America/New_York:20260827T130000
DTSTAMP:20260420T160727
CREATED:20260312T234529Z
LAST-MODIFIED:20260312T234529Z
UID:10000529-1784196000-1787835600@paletteandchisel.org
SUMMARY:Class #275: Oil Painting - Still Life with Helen Oh
DESCRIPTION:Time : 10:00AM – 1:00PM CDT on Thur —\n\n\n\n\nOil Painting — Still Life introduces layered painting techniques perfected by Dutch and Italian masters of the 17th century. Each session begins with an instructor’s demonstration of form rendering\, warm and cool color applications\, and use of scumbling and glazing.\n\nWorking from the instructor’s still life set up\, students will create two paintings throughout. This course is a terrific intro for beginners & an inspiring brush-up course for returning painters.\n\n  \n\n\n\n\nSpecial Notes \n\nThis class meets in our northlight studio on the 3rd floor.\nNo class on 7/30.\nSupply List
URL:https://paletteandchisel.org/event/class-275-oil-painting-still-life-with-helen-oh/
CATEGORIES:Classes
ATTACH;FMTTYPE=image/png:https://paletteandchisel.org/wp-content/uploads/2024/08/Image-79-1.png
END:VEVENT
BEGIN:VEVENT
DTSTART;TZID=America/New_York:20260729T100000
DTEND;TZID=America/New_York:20260902T130000
DTSTAMP:20260420T160727
CREATED:20260305T004927Z
LAST-MODIFIED:20260305T004927Z
UID:10000496-1785319200-1788354000@paletteandchisel.org
SUMMARY:Class #719 - From Sketch to Finish with Lenin Delsol
DESCRIPTION:Time : 10:00AM – 1:00PM CDT on Wed —\n\n\n\nThis is a class designed to help with painting the portrait in Oil and Pastel\, although other media are welcome. Different techniques and procedures will be demonstrated throughout the class and close\, hands on instruction will be given. Drawing is an important component of painting as is an understanding of colour\, and these are a only a couple of the topics that will be touched upon in class. So\, if you’ve ever wondered if you’d ever use that old set of pastels you put away so long ago\, or how to push your oil paintings a little further\, sign up for Sketch to Finish! \n\n\n\n\nSpecial Notes \n\nThere is a $60 model fee payable to the instructor.\nThis class meets in our northlight studio on the 3rd floor.\n\n\n\nRequired Supplies \n\nSupply List
URL:https://paletteandchisel.org/event/class-719-from-sketch-to-finish-with-lenin-delsol/
CATEGORIES:Classes
ATTACH;FMTTYPE=image/jpeg:https://paletteandchisel.org/wp-content/uploads/2024/08/Image-90.jpg
END:VEVENT
BEGIN:VEVENT
DTSTART;TZID=America/New_York:20260729T183000
DTEND;TZID=America/New_York:20260902T213000
DTSTAMP:20260420T160727
CREATED:20260305T005231Z
LAST-MODIFIED:20260305T005231Z
UID:10000499-1785349800-1788384600@paletteandchisel.org
SUMMARY:Class #809 - Instinctive Figure Painting with Lenin Delsol
DESCRIPTION:Time : 6:30PM – 9:30PM CDT on Wed —\n\n\n\n\nThe purpose of this class will be to develop your confidence and a way of seeing the figure as a whole\, utilizing basic anatomical landmarks and a sense of comparative proportion. Together\, we will examine the physical landmark relationships inherent in the human subjects we choose to paint and draw. \nDuring the course of the class\, we will paint several poses—both figure and clothed figure\, with practical demos being shown throughout. We will also discuss composition and apply those ideas to artworks created in the class. \n\n\n\n\n\nSpecial Notes \n\nThere is a $60 model fee payable to the instructor.\nThis class meets in our 3rd floor studio.\n\n\nRequired Supplies \n\nSupply List
URL:https://paletteandchisel.org/event/class-809-instinctive-figure-painting-with-lenin-delsol/
CATEGORIES:Classes
ATTACH;FMTTYPE=image/png:https://paletteandchisel.org/wp-content/uploads/2024/08/Image-71-1.png
END:VEVENT
BEGIN:VEVENT
DTSTART;TZID=America/New_York:20260801T093000
DTEND;TZID=America/New_York:20260829T123000
DTSTAMP:20260420T160727
CREATED:20260312T233530Z
LAST-MODIFIED:20260312T233530Z
UID:10000526-1785576600-1788006600@paletteandchisel.org
SUMMARY:Class #406: Basic Oil Painting with Andrew Conklin
DESCRIPTION:Time : 9:30AM – 12:30PM CDT on Sat —\n\n\n\nIf you have never tried oil or want to improve your abilities to handle this beautiful but complex medium\, this course is for you! Basic Oil Painting introduces the essentials: laying out a palette\, best ways to mix colors\, matching the colors you see\, applying paint with a brush and knife\, and how to create effects of form and texture\, light and shadow. From buttery impasto to flowing washes\, this course will prepare you to take your painting to the next level! \n\n\n\n\nSpecial Notes \n\nThis class meets in our lower-level studio.\nSupply List
URL:https://paletteandchisel.org/event/class-406-basic-oil-painting-with-andrew-conklin/
CATEGORIES:Classes
ATTACH;FMTTYPE=image/png:https://paletteandchisel.org/wp-content/uploads/2024/08/Image-72-1.png
END:VEVENT
BEGIN:VEVENT
DTSTART;TZID=America/New_York:20260801T133000
DTEND;TZID=America/New_York:20260829T163000
DTSTAMP:20260420T160727
CREATED:20260312T233136Z
LAST-MODIFIED:20260312T233136Z
UID:10000524-1785591000-1788021000@paletteandchisel.org
SUMMARY:Class #336: Basic Course in Drawing with Andrew Conklin
DESCRIPTION:Time : 1:30PM – 4:30PM CDT on Sat —\n\n\n\nDiscover the pleasure of drawing! This course introduces essential ideas and processes used by artists working from observation. Students investigate the use of freehand drawing to capture proportion\, communicate form\, and express emotion. Essentials of shading\, composition\, and color are considered through various drawing media\, including charcoal\, graphite and color pencils. Intended for the beginner or those with limited experience in studio art\, these sessions prepare the student for more advanced figure and still life courses. Limited to 9 students. Open to all levels. \n\n\n\n\nSpecial Notes \n\nThere is a shared\, non-refundable model fee payable to the instructor.\nThis class meets in our lower-level studio.\nSupply List\n\n 
URL:https://paletteandchisel.org/event/class-336-basic-course-in-drawing-with-andrew-conklin/
CATEGORIES:Classes
ATTACH;FMTTYPE=image/jpeg:https://paletteandchisel.org/wp-content/uploads/2024/08/Image-81.jpg
END:VEVENT
BEGIN:VEVENT
DTSTART;TZID=America/New_York:20260805T183000
DTEND;TZID=America/New_York:20260909T210000
DTSTAMP:20260420T160727
CREATED:20260319T225506Z
LAST-MODIFIED:20260319T225506Z
UID:10000548-1785954600-1788987600@paletteandchisel.org
SUMMARY:Class #101/102/103: Fundamentals of Visual Art with Don Yang
DESCRIPTION:6:30 PM – 9:00PM CDT on Mon. & Wed.\n\n\n\n\n\nThis class is designed for anyone\, from beginning level to advanced level\, who wishes to systematically learn to draw and paint. (Anyone can learn to draw and paint as long as they have desire and patience\, and willingness to work at it!)\n\nClass will focus on the four most important fundamentals of visual art:\n1. Drawing (Form Principles)\n2. Design (Composition)\n3. Perspective (Spatial Relation)\n4. Color (Color Harmony)\n\nFundamentals of Art 101 students will learn fundamentals of Drawing\, Design and Perspective. Fundamentals of Art 102 students will\, while continuing to study these 3 fundamentals\, learn color theory and harmony. In the subsequent Fundamentals of Art 103 class\, students will compose pictorial narratives in the subject of their choice (landscape\, still life\, illustration etc.) by utilizing design principles and color theory.\n\nThe eventual goal of this class is\, by equipping the students with the essential tools of visual art fundamentals\, to prepare them to be able to pursue their individual art of visual communication and expression in their own style\, medium\, and genre.\n\n\n\n\n\n\n\nSpecial Notes \n\nThis class meets in our lower level studio.\nNo class on 8/17\, 8/19 and 9/7.\n101 Supply List\n102 Supply List
URL:https://paletteandchisel.org/event/class-101-102-103-fundamentals-of-visual-art-with-don-yang-6/
CATEGORIES:Classes
ATTACH;FMTTYPE=image/jpeg:https://paletteandchisel.org/wp-content/uploads/2025/01/don-y-fun.jpeg
END:VEVENT
END:VCALENDAR