BEGIN:VCALENDAR
VERSION:2.0
PRODID:-//Palette &amp; Chisel - ECPv6.15.20//NONSGML v1.0//EN
CALSCALE:GREGORIAN
METHOD:PUBLISH
X-ORIGINAL-URL:https://paletteandchisel.org
X-WR-CALDESC:Events for Palette &amp; Chisel
REFRESH-INTERVAL;VALUE=DURATION:PT1H
X-Robots-Tag:noindex
X-PUBLISHED-TTL:PT1H
BEGIN:VTIMEZONE
TZID:America/New_York
BEGIN:DAYLIGHT
TZOFFSETFROM:-0500
TZOFFSETTO:-0400
TZNAME:EDT
DTSTART:20250309T070000
END:DAYLIGHT
BEGIN:STANDARD
TZOFFSETFROM:-0400
TZOFFSETTO:-0500
TZNAME:EST
DTSTART:20251102T060000
END:STANDARD
BEGIN:DAYLIGHT
TZOFFSETFROM:-0500
TZOFFSETTO:-0400
TZNAME:EDT
DTSTART:20260308T070000
END:DAYLIGHT
BEGIN:STANDARD
TZOFFSETFROM:-0400
TZOFFSETTO:-0500
TZNAME:EST
DTSTART:20261101T060000
END:STANDARD
BEGIN:DAYLIGHT
TZOFFSETFROM:-0500
TZOFFSETTO:-0400
TZNAME:EDT
DTSTART:20270314T070000
END:DAYLIGHT
BEGIN:STANDARD
TZOFFSETFROM:-0400
TZOFFSETTO:-0500
TZNAME:EST
DTSTART:20271107T060000
END:STANDARD
END:VTIMEZONE
BEGIN:VEVENT
DTSTART;TZID=America/New_York:20261003T090000
DTEND;TZID=America/New_York:20261004T210000
DTSTAMP:20260420T213139
CREATED:20260309T224239Z
LAST-MODIFIED:20260323T205138Z
UID:10000510-1791018000-1791147600@paletteandchisel.org
SUMMARY:Schmid Celebration Online (Zoom)
DESCRIPTION:If you are unable to join us in Chicago this October 2026\, we have you covered! Attendees will be able to watch all four painting demonstration sessions taking place on Saturday & Sunday LIVE from home. Zoom attendees will receive a replay link to rewatch the painting demonstrations through the end of the year. \nIMPORTANT – Registration for On-Line (Zoom) attendees will be handled through the Richard Schmid Fine Art Foundation.
URL:https://paletteandchisel.org/event/schmid-celebration-video-replay-extra-option/
CATEGORIES:Classes,Workshops
ATTACH;FMTTYPE=image/jpeg:https://paletteandchisel.org/wp-content/uploads/2026/03/Virtual-Ticket.jpg
END:VEVENT
BEGIN:VEVENT
DTSTART;TZID=America/New_York:20261003T180000
DTEND;TZID=America/New_York:20261003T210000
DTSTAMP:20260420T213140
CREATED:20260309T223836Z
LAST-MODIFIED:20260322T021723Z
UID:10000509-1791050400-1791061200@paletteandchisel.org
SUMMARY:Schmid Celebration OPEN STUDIO (Extra Option)
DESCRIPTION:OPEN STUDIO – Extra Option\nA chance to paint\, observe\, and soak in the creative energy and light where Richard Schmid painted.\nLocation: The Palette & Chisel\, 3rd Floor Studio\, 1012 N. Dearborn Street. \n$20 for Members\, $25 for Non-Members.
URL:https://paletteandchisel.org/event/schmid-celebration-open-studio-extra-option-2/
CATEGORIES:Classes,Workshops
ATTACH;FMTTYPE=image/jpeg:https://paletteandchisel.org/wp-content/uploads/2026/03/Extra-Options.jpg
END:VEVENT
END:VCALENDAR