BEGIN:VCALENDAR
VERSION:2.0
PRODID:-//Palette &amp; Chisel - ECPv6.15.20//NONSGML v1.0//EN
CALSCALE:GREGORIAN
METHOD:PUBLISH
X-WR-CALNAME:Palette &amp; Chisel
X-ORIGINAL-URL:https://paletteandchisel.org
X-WR-CALDESC:Events for Palette &amp; Chisel
REFRESH-INTERVAL;VALUE=DURATION:PT1H
X-Robots-Tag:noindex
X-PUBLISHED-TTL:PT1H
BEGIN:VTIMEZONE
TZID:America/New_York
BEGIN:DAYLIGHT
TZOFFSETFROM:-0500
TZOFFSETTO:-0400
TZNAME:EDT
DTSTART:20250309T070000
END:DAYLIGHT
BEGIN:STANDARD
TZOFFSETFROM:-0400
TZOFFSETTO:-0500
TZNAME:EST
DTSTART:20251102T060000
END:STANDARD
BEGIN:DAYLIGHT
TZOFFSETFROM:-0500
TZOFFSETTO:-0400
TZNAME:EDT
DTSTART:20260308T070000
END:DAYLIGHT
BEGIN:STANDARD
TZOFFSETFROM:-0400
TZOFFSETTO:-0500
TZNAME:EST
DTSTART:20261101T060000
END:STANDARD
BEGIN:DAYLIGHT
TZOFFSETFROM:-0500
TZOFFSETTO:-0400
TZNAME:EDT
DTSTART:20270314T070000
END:DAYLIGHT
BEGIN:STANDARD
TZOFFSETFROM:-0400
TZOFFSETTO:-0500
TZNAME:EST
DTSTART:20271107T060000
END:STANDARD
END:VTIMEZONE
BEGIN:VEVENT
DTSTART;TZID=America/New_York:20260424T090000
DTEND;TZID=America/New_York:20260426T160000
DTSTAMP:20260422T120414
CREATED:20260221T000851Z
LAST-MODIFIED:20260317T200858Z
UID:10000480-1777021200-1777219200@paletteandchisel.org
SUMMARY:Pushing the Boundaries with J. Antonio Bedolla
DESCRIPTION:This drawing workshop is designed to empower students stepping outside their comfort zones and unlocking new levels of artistic expression by learning how to demystify their subjects. My approach emphasizes movement\, capturing the emotion\, and keen observation that extend beyond traditional portrait drawing techniques. \nI am excited to share this journey with enthusiastic artists who want to elevate their work to the next level. Artists of all skill levels\, and preferred medium are welcome. \n\n  \n\n\n\n\nSpecial Notes \n\nThere is a $50 non-refundable model fee.\nThis class will meet in our 3rd floor studio.\n\n\nRequired Supplies \n\nAny art supplies you prefer will be ok. Here is what I use: \n– Bristol Strathmore Vellum 300 or any other preferred drawing paper \n– Staedtler graphite pencils (2B\, 4H\, 6H\, 9H) or any other brand you like \n– Stabilo 8046 pencil \n– Charcoal pencils \n– Kneaded rubber eraser \n– Sharpener
URL:https://paletteandchisel.org/event/pushing-the-boundaries-with-j-antonio-bedolla/
CATEGORIES:Classes
ATTACH;FMTTYPE=image/jpeg:https://paletteandchisel.org/wp-content/uploads/2026/02/tony-bedolla-12.jpg
END:VEVENT
BEGIN:VEVENT
DTSTART;TZID=America/New_York:20260417T110000
DTEND;TZID=America/New_York:20260426T170000
DTSTAMP:20260422T120414
CREATED:20251124T211042Z
LAST-MODIFIED:20251124T211042Z
UID:10000442-1776423600-1777222800@paletteandchisel.org
SUMMARY:Stuart Fullerton Student Show: April 17 - 26
DESCRIPTION:Join us on Friday\, April 17 from 5:30 to 9 pm for the opening of Heads Up! The show will feature the work of Stuart Fullerton and his students. The show will run through April 26.
URL:https://paletteandchisel.org/event/stuart-fullerton-student-show-april-17-26/
CATEGORIES:Exhibitions
ATTACH;FMTTYPE=image/jpeg:https://paletteandchisel.org/wp-content/uploads/2025/11/fullerton-scarfeee.jpg
END:VEVENT
BEGIN:VEVENT
DTSTART;TZID=America/New_York:20260414T183000
DTEND;TZID=America/New_York:20260519T213000
DTSTAMP:20260422T120414
CREATED:20260226T195516Z
LAST-MODIFIED:20260226T195516Z
UID:10000485-1776191400-1779226200@paletteandchisel.org
SUMMARY:Class #182: The Portrait on Paper (A Tonal Approach) with Larry Paulsen
DESCRIPTION:Time : 6:30PM – 9:30PM CDT on Tue —\n\n\n\nFor centuries\, artists have utilized toned papers for both their aesthetic qualities as well as a shorthand means toward representing the wide spectrum of values observed in nature. \nStudents will learn the basic construction and landmarks of the head. Then they will quickly move on to the articulation of the individual features. Using both black pencils and white chalk\, students will learn to “key” their drawings\, making the most of the advantages these toned papers offer. \nThis class is designed to straddle the fence between painting and drawing. Students interested in a four-color approach to the portrait in watercolor are also invited. \nSpecial Notes \n\n$60 non-refundable model fee payable to the instructor.\nThis class meets in our second floor studio.\n\nRequired Supplies:\nDrawing Supply List\n\nOptional Watercolor Supply List
URL:https://paletteandchisel.org/event/class-182-the-portrait-on-paper-a-tonal-approach-with-larry-paulsen/
CATEGORIES:Classes
ATTACH;FMTTYPE=image/png:https://paletteandchisel.org/wp-content/uploads/2024/08/Image-73-1.png
END:VEVENT
BEGIN:VEVENT
DTSTART;TZID=America/New_York:20260413T183000
DTEND;TZID=America/New_York:20260518T213000
DTSTAMP:20260422T120414
CREATED:20260226T195223Z
LAST-MODIFIED:20260226T195223Z
UID:10000483-1776105000-1779139800@paletteandchisel.org
SUMMARY:Class #862: Figure Drawing with Larry Paulsen
DESCRIPTION:Time : 6:30PM – 9:30PM CDT on Mon —\n\n\n\nIndividual instruction aimed at improving the draftsmanship of the experienced and beginning artist. Line\, gesture\, proportion\, construction\, light and shade are explored as we attempt to represent the human form. Any drawing or water-based media is welcome in this class. \n\n\n\n\nSpecial Notes \n\n$60 non-refundable model fee payable to the instructor.\nThis class meets in our second floor studio.\n\n\nRequired Supplies \n\n18 X 24 Newsprint pad\n2 spring clips to hold paper to drawing board\nRoller ball pen\nChina marker pencil\n1 stick conte crayon (Sanguine)\nKneaded rubber eraser\n…or bring what you enjoy working with
URL:https://paletteandchisel.org/event/class-862-figure-drawing-with-larry-paulsen/
CATEGORIES:Classes
ATTACH;FMTTYPE=image/jpeg:https://paletteandchisel.org/wp-content/uploads/2024/08/Image-1.jpg
END:VEVENT
BEGIN:VEVENT
DTSTART;TZID=America/New_York:20260412T133000
DTEND;TZID=America/New_York:20260517T163000
DTSTAMP:20260422T120414
CREATED:20260226T194840Z
LAST-MODIFIED:20260303T232010Z
UID:10000481-1776000600-1779035400@paletteandchisel.org
SUMMARY:Class #882: Figure Drawing with Larry Paulsen
DESCRIPTION:Time : 1:30PM – 4:30PM CDT on Sun —\n\n\n\nIndividual instruction aimed at improving the draftsmanship of the experienced and beginning artist. Line\, gesture\, proportion\, construction\, light and shade are explored as we attempt to represent the human form. Any drawing or water-based media is welcome in this class. \n\n\n\nSpecial Notes\nThe class will meet in our 2nd floor studio.\nThere is a $60 non-refundable model fee payable to the instructor.\n\n\n\n\nRequired Supplies \n\n18 X 24 Newsprint pad\n2 spring clips to hold paper to drawing board\nRoller ball pen\nChina marker pencil\n1 stick conte crayon (Sanguine)\nKneaded rubber eraser\n…or bring what you enjoy working with
URL:https://paletteandchisel.org/event/class-882-figure-drawing-with-larry-paulsen/
CATEGORIES:Classes
ATTACH;FMTTYPE=image/jpeg:https://paletteandchisel.org/wp-content/uploads/2024/08/Image-1.jpg
END:VEVENT
END:VCALENDAR